BEGIN:VCALENDAR
VERSION:2.0
PRODID:-//MGS | Maryland General Service - ECPv6.15.20//NONSGML v1.0//EN
CALSCALE:GREGORIAN
METHOD:PUBLISH
X-WR-CALNAME:MGS | Maryland General Service
X-ORIGINAL-URL:https://www.marylandaa.org
X-WR-CALDESC:Events for MGS | Maryland General Service
REFRESH-INTERVAL;VALUE=DURATION:PT1H
X-Robots-Tag:noindex
X-PUBLISHED-TTL:PT1H
BEGIN:VTIMEZONE
TZID:America/New_York
BEGIN:DAYLIGHT
TZOFFSETFROM:-0500
TZOFFSETTO:-0400
TZNAME:EDT
DTSTART:20250309T070000
END:DAYLIGHT
BEGIN:STANDARD
TZOFFSETFROM:-0400
TZOFFSETTO:-0500
TZNAME:EST
DTSTART:20251102T060000
END:STANDARD
BEGIN:DAYLIGHT
TZOFFSETFROM:-0500
TZOFFSETTO:-0400
TZNAME:EDT
DTSTART:20260308T070000
END:DAYLIGHT
BEGIN:STANDARD
TZOFFSETFROM:-0400
TZOFFSETTO:-0500
TZNAME:EST
DTSTART:20261101T060000
END:STANDARD
BEGIN:DAYLIGHT
TZOFFSETFROM:-0500
TZOFFSETTO:-0400
TZNAME:EDT
DTSTART:20270314T070000
END:DAYLIGHT
BEGIN:STANDARD
TZOFFSETFROM:-0400
TZOFFSETTO:-0500
TZNAME:EST
DTSTART:20271107T060000
END:STANDARD
END:VTIMEZONE
BEGIN:VEVENT
DTSTART;TZID=America/New_York:20260423T210000
DTEND;TZID=America/New_York:20260423T220000
DTSTAMP:20260423T080241
CREATED:20260219T115203Z
LAST-MODIFIED:20260219T115203Z
UID:10001467-1776978000-1776981600@www.marylandaa.org
SUMMARY:Spring Contra Study
DESCRIPTION:Spring 2026 Contra Study Flyer
URL:https://www.marylandaa.org/event/spring-contra-study-2/2026-04-23
LOCATION:Maryland
ATTACH;FMTTYPE=image/jpeg:https://www.marylandaa.org/wp-content/uploads/2026/02/IMG_0005.jpeg
END:VEVENT
BEGIN:VEVENT
DTSTART;TZID=America/New_York:20260425T160000
DTEND;TZID=America/New_York:20260425T170000
DTSTAMP:20260423T080241
CREATED:20260326T101733Z
LAST-MODIFIED:20260326T101733Z
UID:10001541-1777132800-1777136400@www.marylandaa.org
SUMMARY:District 36 Corrections Workshop
DESCRIPTION:District 36 Corrections Workshop Flyer
URL:https://www.marylandaa.org/event/district-36-corrections-workshop
LOCATION:Leonardtown Knights of Columbus Hall\, Fenwick Street\, Leonardtown\, MD\, 20650\, United States
ATTACH;FMTTYPE=image/png:https://www.marylandaa.org/wp-content/uploads/2026/03/d36correctionsflyer.png
GEO:38.2908174;-76.6339874
X-APPLE-STRUCTURED-LOCATION;VALUE=URI;X-ADDRESS=Leonardtown Knights of Columbus Hall Fenwick Street Leonardtown MD 20650 United States;X-APPLE-RADIUS=500;X-TITLE=Fenwick Street:geo:-76.6339874,38.2908174
END:VEVENT
BEGIN:VEVENT
DTSTART;VALUE=DATE:20260426
DTEND;VALUE=DATE:20260503
DTSTAMP:20260423T080241
CREATED:20251114T113010Z
LAST-MODIFIED:20251114T113100Z
UID:10001255-1777161600-1777766399@www.marylandaa.org
SUMMARY:2026 General Service Conference
DESCRIPTION:
URL:https://www.marylandaa.org/event/2026-general-service-conference
LOCATION:Maryland
END:VEVENT
BEGIN:VEVENT
DTSTART;TZID=America/New_York:20260426T130000
DTEND;TZID=America/New_York:20260426T150000
DTSTAMP:20260423T080241
CREATED:20260406T160331Z
LAST-MODIFIED:20260406T160331Z
UID:10001553-1777208400-1777215600@www.marylandaa.org
SUMMARY:Sponsorship and Beyond
DESCRIPTION:
URL:https://www.marylandaa.org/event/sponsorship-and-beyond
LOCATION:St Paul’s Parish Hall\, 301 S. Liberty Street\, Centreville\, 20617\, United States
ATTACH;FMTTYPE=image/jpeg:https://www.marylandaa.org/wp-content/uploads/2026/04/Sponsorship-and-Beyond-Flyer.jpg
GEO:39.0427432;-76.0678972
X-APPLE-STRUCTURED-LOCATION;VALUE=URI;X-ADDRESS=St Paul’s Parish Hall 301 S. Liberty Street Centreville 20617 United States;X-APPLE-RADIUS=500;X-TITLE=301 S. Liberty Street:geo:-76.0678972,39.0427432
END:VEVENT
BEGIN:VEVENT
DTSTART;TZID=America/New_York:20260430T180000
DTEND;TZID=America/New_York:20260430T200000
DTSTAMP:20260423T080241
CREATED:20260331T113056Z
LAST-MODIFIED:20260331T113056Z
UID:10001552-1777572000-1777579200@www.marylandaa.org
SUMMARY:Basic Text Group 20th Anniversary
DESCRIPTION:Basic Text Group 20th Anniversary Flyer
URL:https://www.marylandaa.org/event/basic-text-group-20th-anniversary
LOCATION:Immaculate Conception Church\, Old Village Road\, Mechanicsville\, MD\, 20659\, United States
ATTACH;FMTTYPE=image/png:https://www.marylandaa.org/wp-content/uploads/2026/03/basictext20.png
GEO:38.4434048;-76.7483535
X-APPLE-STRUCTURED-LOCATION;VALUE=URI;X-ADDRESS=Immaculate Conception Church Old Village Road Mechanicsville MD 20659 United States;X-APPLE-RADIUS=500;X-TITLE=Old Village Road:geo:-76.7483535,38.4434048
END:VEVENT
BEGIN:VEVENT
DTSTART;TZID=America/New_York:20260430T210000
DTEND;TZID=America/New_York:20260430T220000
DTSTAMP:20260423T080241
CREATED:20260219T115203Z
LAST-MODIFIED:20260219T115203Z
UID:10001468-1777582800-1777586400@www.marylandaa.org
SUMMARY:Spring Contra Study
DESCRIPTION:Spring 2026 Contra Study Flyer
URL:https://www.marylandaa.org/event/spring-contra-study-2/2026-04-30
LOCATION:Maryland
ATTACH;FMTTYPE=image/jpeg:https://www.marylandaa.org/wp-content/uploads/2026/02/IMG_0005.jpeg
END:VEVENT
BEGIN:VEVENT
DTSTART;TZID=America/New_York:20260502T080000
DTEND;TZID=America/New_York:20260502T110000
DTSTAMP:20260423T080241
CREATED:20260323T232040Z
LAST-MODIFIED:20260323T232040Z
UID:10001539-1777708800-1777719600@www.marylandaa.org
SUMMARY:AA District 9 Spiritual Breakfast
DESCRIPTION:Breakfast 2026
URL:https://www.marylandaa.org/event/aa-district-9-spiritual-breakfast
LOCATION:Maryland
ATTACH;FMTTYPE=image/jpeg:https://www.marylandaa.org/wp-content/uploads/2026/03/Breakfast_JEPG.jpg
END:VEVENT
BEGIN:VEVENT
DTSTART;TZID=America/New_York:20260502T120000
DTEND;TZID=America/New_York:20260502T130000
DTSTAMP:20260423T080241
CREATED:20260126T153251Z
LAST-MODIFIED:20260126T153251Z
UID:10001335-1777723200-1777726800@www.marylandaa.org
SUMMARY:Accessibilities Committee Meeting
DESCRIPTION:
URL:https://www.marylandaa.org/event/accessibilities-committee-meeting/2026-05-02
LOCATION:Maryland
ATTACH;FMTTYPE=image/png:https://www.marylandaa.org/wp-content/uploads/2026/01/FLyer-png.png
ORGANIZER;CN="Accessibilities Chair":MAILTO:accessibility@marylandaa.org
END:VEVENT
BEGIN:VEVENT
DTSTART;TZID=America/New_York:20260504T193000
DTEND;TZID=America/New_York:20260504T203000
DTSTAMP:20260423T080241
CREATED:20260101T065809Z
LAST-MODIFIED:20260101T113637Z
UID:10001274-1777923000-1777926600@www.marylandaa.org
SUMMARY:GSR Orientation
DESCRIPTION:Open event and click the link below to download flyer \nGSR Orientation 2026 \nFirst Monday of Every Month \n7:30 pm – 8:30 pm \nZoom ID: 892 1762 3074 \nPassword: GSR
URL:https://www.marylandaa.org/event/gsr-orientation-2/2026-05-04
LOCATION:Zoom – details in flyer
ATTACH;FMTTYPE=image/png:https://www.marylandaa.org/wp-content/uploads/2026/01/gsro2026.png
END:VEVENT
BEGIN:VEVENT
DTSTART;TZID=America/New_York:20260505T190000
DTEND;TZID=America/New_York:20260505T200000
DTSTAMP:20260423T080241
CREATED:20260323T231654Z
LAST-MODIFIED:20260323T231654Z
UID:10001480-1778007600-1778011200@www.marylandaa.org
SUMMARY:CPC Committee meeting
DESCRIPTION:Zoom Meeting ID 869 4557 5668\n\nPasscode 068356\n\nhttps://us02web.zoom.us/j/86945575668?pwd=ytNaQB2kDnqbenCOak6fUb8PY5GHtP.1
URL:https://www.marylandaa.org/event/cpc-committee-meeting/2026-05-05
LOCATION:Maryland
END:VEVENT
BEGIN:VEVENT
DTSTART;TZID=America/New_York:20260507T210000
DTEND;TZID=America/New_York:20260507T220000
DTSTAMP:20260423T080241
CREATED:20260219T115203Z
LAST-MODIFIED:20260219T115203Z
UID:10001469-1778187600-1778191200@www.marylandaa.org
SUMMARY:Spring Contra Study
DESCRIPTION:Spring 2026 Contra Study Flyer
URL:https://www.marylandaa.org/event/spring-contra-study-2/2026-05-07
LOCATION:Maryland
ATTACH;FMTTYPE=image/jpeg:https://www.marylandaa.org/wp-content/uploads/2026/02/IMG_0005.jpeg
END:VEVENT
BEGIN:VEVENT
DTSTART;TZID=America/New_York:20260509T090000
DTEND;TZID=America/New_York:20260509T120000
DTSTAMP:20260423T080241
CREATED:20260313T220955Z
LAST-MODIFIED:20260313T221237Z
UID:10001477-1778317200-1778328000@www.marylandaa.org
SUMMARY:Bridging the Gap Workshop
DESCRIPTION:Defining Bridging the Gap and how it works.
URL:https://www.marylandaa.org/event/bridging-the-gap-workshop
LOCATION:Maryland
ATTACH;FMTTYPE=image/jpeg:https://www.marylandaa.org/wp-content/uploads/2026/03/BTG-Program-Workshop.jpg
END:VEVENT
BEGIN:VEVENT
DTSTART;TZID=America/New_York:20260514T210000
DTEND;TZID=America/New_York:20260514T220000
DTSTAMP:20260423T080241
CREATED:20260219T115203Z
LAST-MODIFIED:20260219T115203Z
UID:10001470-1778792400-1778796000@www.marylandaa.org
SUMMARY:Spring Contra Study
DESCRIPTION:Spring 2026 Contra Study Flyer
URL:https://www.marylandaa.org/event/spring-contra-study-2/2026-05-14
LOCATION:Maryland
ATTACH;FMTTYPE=image/jpeg:https://www.marylandaa.org/wp-content/uploads/2026/02/IMG_0005.jpeg
END:VEVENT
BEGIN:VEVENT
DTSTART;TZID=America/New_York:20260515T063000
DTEND;TZID=America/New_York:20260515T223000
DTSTAMP:20260423T080241
CREATED:20260205T155515Z
LAST-MODIFIED:20260205T161233Z
UID:10001455-1778826600-1778884200@www.marylandaa.org
SUMMARY:Bus Trip to GSO
DESCRIPTION:
URL:https://www.marylandaa.org/event/bus-trip-to-gso
LOCATION:Maryland
ATTACH;FMTTYPE=image/png:https://www.marylandaa.org/wp-content/uploads/2026/02/Final-Flyer-NYC-Bus-2026.png
END:VEVENT
BEGIN:VEVENT
DTSTART;TZID=America/New_York:20260516T083000
DTEND;TZID=America/New_York:20260516T120000
DTSTAMP:20260423T080241
CREATED:20260414T105410Z
LAST-MODIFIED:20260414T105410Z
UID:10001554-1778920200-1778932800@www.marylandaa.org
SUMMARY:SMIA Serenity Breakfast
DESCRIPTION:SMIA Serenity Breakfast Color Flyer \nSMIA Serenity Breakfast Grayscale Flyer
URL:https://www.marylandaa.org/event/smia-serenity-breakfast-2
LOCATION:Patuxent Presbyterian Church\, Kingston Creek Road 23421\, California\, Maryland\, 20619\, United States
ATTACH;FMTTYPE=image/png:https://www.marylandaa.org/wp-content/uploads/2026/04/smiasb2026.png
ORGANIZER;CN="Emme J":MAILTO:maryellen.jones@gmail.com
GEO:38.3106184;-76.5053297
X-APPLE-STRUCTURED-LOCATION;VALUE=URI;X-ADDRESS=Patuxent Presbyterian Church Kingston Creek Road 23421 California Maryland 20619 United States;X-APPLE-RADIUS=500;X-TITLE=Kingston Creek Road 23421:geo:-76.5053297,38.3106184
END:VEVENT
BEGIN:VEVENT
DTSTART;TZID=America/New_York:20260516T090000
DTEND;TZID=America/New_York:20260516T150000
DTSTAMP:20260423T080241
CREATED:20251114T113321Z
LAST-MODIFIED:20251114T113434Z
UID:10001256-1778922000-1778943600@www.marylandaa.org
SUMMARY:Area Assembly: Delegate Report Back from GSC
DESCRIPTION:
URL:https://www.marylandaa.org/event/area-assembly-delegate-report-back-from-gsc-2
LOCATION:Severna Park United Methodist Church\, 731 Benfield Rd\, Severna Park\, Md\, 21143
GEO:39.0867188;-76.6064396
X-APPLE-STRUCTURED-LOCATION;VALUE=URI;X-ADDRESS=Severna Park United Methodist Church 731 Benfield Rd Severna Park Md 21143;X-APPLE-RADIUS=500;X-TITLE=731 Benfield Rd:geo:-76.6064396,39.0867188
END:VEVENT
BEGIN:VEVENT
DTSTART;TZID=America/New_York:20260517T150000
DTEND;TZID=America/New_York:20260517T163000
DTSTAMP:20260423T080241
CREATED:20260131T015146Z
LAST-MODIFIED:20260131T015146Z
UID:10001357-1779030000-1779035400@www.marylandaa.org
SUMMARY:Area 29 Public Information Committee Meeting
DESCRIPTION:Zoom ID: 893 9086 4222 Passcode: 687115
URL:https://www.marylandaa.org/event/area-29-public-information-committee-meeting/2026-05-17
LOCATION:
END:VEVENT
BEGIN:VEVENT
DTSTART;TZID=America/New_York:20260520T193000
DTEND;TZID=America/New_York:20260520T193000
DTSTAMP:20260423T080241
CREATED:20260327T142121Z
LAST-MODIFIED:20260327T142311Z
UID:10001543-1779305400-1779305400@www.marylandaa.org
SUMMARY:Area 29 Treatment-Bridging the Gap Committee Meeting
DESCRIPTION:Meets the 3rd Wednesday of each month at 7:30pm \nMeeting ID: 848 1450 0193\nPasscode: 164
URL:https://www.marylandaa.org/event/area-29-treatment-bridging-the-gap-committee-meeting/2026-05-20
LOCATION:Maryland
END:VEVENT
BEGIN:VEVENT
DTSTART;TZID=America/New_York:20260521T210000
DTEND;TZID=America/New_York:20260521T220000
DTSTAMP:20260423T080241
CREATED:20260219T115203Z
LAST-MODIFIED:20260219T115203Z
UID:10001471-1779397200-1779400800@www.marylandaa.org
SUMMARY:Spring Contra Study
DESCRIPTION:Spring 2026 Contra Study Flyer
URL:https://www.marylandaa.org/event/spring-contra-study-2/2026-05-21
LOCATION:Maryland
ATTACH;FMTTYPE=image/jpeg:https://www.marylandaa.org/wp-content/uploads/2026/02/IMG_0005.jpeg
END:VEVENT
BEGIN:VEVENT
DTSTART;TZID=America/New_York:20260528T210000
DTEND;TZID=America/New_York:20260528T220000
DTSTAMP:20260423T080241
CREATED:20260219T115203Z
LAST-MODIFIED:20260219T115203Z
UID:10001472-1780002000-1780005600@www.marylandaa.org
SUMMARY:Spring Contra Study
DESCRIPTION:Spring 2026 Contra Study Flyer
URL:https://www.marylandaa.org/event/spring-contra-study-2/2026-05-28
LOCATION:Maryland
ATTACH;FMTTYPE=image/jpeg:https://www.marylandaa.org/wp-content/uploads/2026/02/IMG_0005.jpeg
END:VEVENT
BEGIN:VEVENT
DTSTART;TZID=America/New_York:20260601T193000
DTEND;TZID=America/New_York:20260601T203000
DTSTAMP:20260423T080241
CREATED:20260101T065809Z
LAST-MODIFIED:20260101T113637Z
UID:10001275-1780342200-1780345800@www.marylandaa.org
SUMMARY:GSR Orientation
DESCRIPTION:Open event and click the link below to download flyer \nGSR Orientation 2026 \nFirst Monday of Every Month \n7:30 pm – 8:30 pm \nZoom ID: 892 1762 3074 \nPassword: GSR
URL:https://www.marylandaa.org/event/gsr-orientation-2/2026-06-01
LOCATION:Zoom – details in flyer
ATTACH;FMTTYPE=image/png:https://www.marylandaa.org/wp-content/uploads/2026/01/gsro2026.png
END:VEVENT
BEGIN:VEVENT
DTSTART;TZID=America/New_York:20260602T190000
DTEND;TZID=America/New_York:20260602T200000
DTSTAMP:20260423T080241
CREATED:20260323T231654Z
LAST-MODIFIED:20260323T231654Z
UID:10001481-1780426800-1780430400@www.marylandaa.org
SUMMARY:CPC Committee meeting
DESCRIPTION:Zoom Meeting ID 869 4557 5668\n\nPasscode 068356\n\nhttps://us02web.zoom.us/j/86945575668?pwd=ytNaQB2kDnqbenCOak6fUb8PY5GHtP.1
URL:https://www.marylandaa.org/event/cpc-committee-meeting/2026-06-02
LOCATION:Maryland
END:VEVENT
BEGIN:VEVENT
DTSTART;TZID=America/New_York:20260604T210000
DTEND;TZID=America/New_York:20260604T220000
DTSTAMP:20260423T080241
CREATED:20260219T115203Z
LAST-MODIFIED:20260219T115203Z
UID:10001473-1780606800-1780610400@www.marylandaa.org
SUMMARY:Spring Contra Study
DESCRIPTION:Spring 2026 Contra Study Flyer
URL:https://www.marylandaa.org/event/spring-contra-study-2/2026-06-04
LOCATION:Maryland
ATTACH;FMTTYPE=image/jpeg:https://www.marylandaa.org/wp-content/uploads/2026/02/IMG_0005.jpeg
END:VEVENT
BEGIN:VEVENT
DTSTART;TZID=America/New_York:20260606T120000
DTEND;TZID=America/New_York:20260606T130000
DTSTAMP:20260423T080241
CREATED:20260126T153251Z
LAST-MODIFIED:20260126T153251Z
UID:10001336-1780747200-1780750800@www.marylandaa.org
SUMMARY:Accessibilities Committee Meeting
DESCRIPTION:
URL:https://www.marylandaa.org/event/accessibilities-committee-meeting/2026-06-06
LOCATION:Maryland
ATTACH;FMTTYPE=image/png:https://www.marylandaa.org/wp-content/uploads/2026/01/FLyer-png.png
ORGANIZER;CN="Accessibilities Chair":MAILTO:accessibility@marylandaa.org
END:VEVENT
BEGIN:VEVENT
DTSTART;TZID=America/New_York:20260611T210000
DTEND;TZID=America/New_York:20260611T220000
DTSTAMP:20260423T080241
CREATED:20260219T115203Z
LAST-MODIFIED:20260219T115203Z
UID:10001474-1781211600-1781215200@www.marylandaa.org
SUMMARY:Spring Contra Study
DESCRIPTION:Spring 2026 Contra Study Flyer
URL:https://www.marylandaa.org/event/spring-contra-study-2/2026-06-11
LOCATION:Maryland
ATTACH;FMTTYPE=image/jpeg:https://www.marylandaa.org/wp-content/uploads/2026/02/IMG_0005.jpeg
END:VEVENT
BEGIN:VEVENT
DTSTART;TZID=America/New_York:20260617T193000
DTEND;TZID=America/New_York:20260617T193000
DTSTAMP:20260423T080241
CREATED:20260327T142121Z
LAST-MODIFIED:20260327T142311Z
UID:10001544-1781724600-1781724600@www.marylandaa.org
SUMMARY:Area 29 Treatment-Bridging the Gap Committee Meeting
DESCRIPTION:Meets the 3rd Wednesday of each month at 7:30pm \nMeeting ID: 848 1450 0193\nPasscode: 164
URL:https://www.marylandaa.org/event/area-29-treatment-bridging-the-gap-committee-meeting/2026-06-17
LOCATION:Maryland
END:VEVENT
BEGIN:VEVENT
DTSTART;TZID=America/New_York:20260619T070000
DTEND;TZID=America/New_York:20260621T123000
DTSTAMP:20260423T080241
CREATED:20260202T190720Z
LAST-MODIFIED:20260202T191551Z
UID:10001379-1781852400-1782045000@www.marylandaa.org
SUMMARY:MD State Convention - June 19-21\, 2026
DESCRIPTION:Register online here. \nA full weekend of workshops\, inspiring speakers\, great food\, dancing\, ice cream\, and meaningful fellowship! You can register online and purchase meals\, bottomless weekend coffee all weekend\, and ice cream on Friday and Saturday nights.
URL:https://www.marylandaa.org/event/md-state-convention-june-19-21-2026
LOCATION:Maryland
ATTACH;FMTTYPE=image/png:https://www.marylandaa.org/wp-content/uploads/2026/02/MD-Convention-png.png
END:VEVENT
BEGIN:VEVENT
DTSTART;TZID=America/New_York:20260621T150000
DTEND;TZID=America/New_York:20260621T163000
DTSTAMP:20260423T080241
CREATED:20260131T015146Z
LAST-MODIFIED:20260131T015146Z
UID:10001358-1782054000-1782059400@www.marylandaa.org
SUMMARY:Area 29 Public Information Committee Meeting
DESCRIPTION:Zoom ID: 893 9086 4222 Passcode: 687115
URL:https://www.marylandaa.org/event/area-29-public-information-committee-meeting/2026-06-21
LOCATION:
END:VEVENT
BEGIN:VEVENT
DTSTART;TZID=America/New_York:20260704T120000
DTEND;TZID=America/New_York:20260704T130000
DTSTAMP:20260423T080241
CREATED:20260126T153251Z
LAST-MODIFIED:20260126T153251Z
UID:10001337-1783166400-1783170000@www.marylandaa.org
SUMMARY:Accessibilities Committee Meeting
DESCRIPTION:
URL:https://www.marylandaa.org/event/accessibilities-committee-meeting/2026-07-04
LOCATION:Maryland
ATTACH;FMTTYPE=image/png:https://www.marylandaa.org/wp-content/uploads/2026/01/FLyer-png.png
ORGANIZER;CN="Accessibilities Chair":MAILTO:accessibility@marylandaa.org
END:VEVENT
BEGIN:VEVENT
DTSTART;TZID=America/New_York:20260706T193000
DTEND;TZID=America/New_York:20260706T203000
DTSTAMP:20260423T080241
CREATED:20260101T065809Z
LAST-MODIFIED:20260101T113637Z
UID:10001276-1783366200-1783369800@www.marylandaa.org
SUMMARY:GSR Orientation
DESCRIPTION:Open event and click the link below to download flyer \nGSR Orientation 2026 \nFirst Monday of Every Month \n7:30 pm – 8:30 pm \nZoom ID: 892 1762 3074 \nPassword: GSR
URL:https://www.marylandaa.org/event/gsr-orientation-2/2026-07-06
LOCATION:Zoom – details in flyer
ATTACH;FMTTYPE=image/png:https://www.marylandaa.org/wp-content/uploads/2026/01/gsro2026.png
END:VEVENT
END:VCALENDAR