BEGIN:VCALENDAR
VERSION:2.0
PRODID:-//MGS | Maryland General Service - ECPv6.15.20//NONSGML v1.0//EN
CALSCALE:GREGORIAN
METHOD:PUBLISH
X-WR-CALNAME:MGS | Maryland General Service
X-ORIGINAL-URL:https://www.marylandaa.org
X-WR-CALDESC:Events for MGS | Maryland General Service
REFRESH-INTERVAL;VALUE=DURATION:PT1H
X-Robots-Tag:noindex
X-PUBLISHED-TTL:PT1H
BEGIN:VTIMEZONE
TZID:America/New_York
BEGIN:DAYLIGHT
TZOFFSETFROM:-0500
TZOFFSETTO:-0400
TZNAME:EDT
DTSTART:20240310T070000
END:DAYLIGHT
BEGIN:STANDARD
TZOFFSETFROM:-0400
TZOFFSETTO:-0500
TZNAME:EST
DTSTART:20241103T060000
END:STANDARD
BEGIN:DAYLIGHT
TZOFFSETFROM:-0500
TZOFFSETTO:-0400
TZNAME:EDT
DTSTART:20250309T070000
END:DAYLIGHT
BEGIN:STANDARD
TZOFFSETFROM:-0400
TZOFFSETTO:-0500
TZNAME:EST
DTSTART:20251102T060000
END:STANDARD
BEGIN:DAYLIGHT
TZOFFSETFROM:-0500
TZOFFSETTO:-0400
TZNAME:EDT
DTSTART:20260308T070000
END:DAYLIGHT
BEGIN:STANDARD
TZOFFSETFROM:-0400
TZOFFSETTO:-0500
TZNAME:EST
DTSTART:20261101T060000
END:STANDARD
END:VTIMEZONE
BEGIN:VEVENT
DTSTART;VALUE=DATE:20250902
DTEND;VALUE=DATE:20250908
DTSTAMP:20260423T112951
CREATED:20250603T131953Z
LAST-MODIFIED:20250603T131953Z
UID:10001025-1756771200-1757289599@www.marylandaa.org
SUMMARY:Sessions By The Sea
DESCRIPTION:Click Here to Visit the Site \nClick Here to Register
URL:https://www.marylandaa.org/event/sessions-by-the-sea
LOCATION:Roland Powell Convention Center\, 4001 Coastal Hwy\, Ocean City\, 21842\, United States
ATTACH;FMTTYPE=image/png:https://www.marylandaa.org/wp-content/uploads/2025/06/sbts25.png
ORGANIZER;CN="Sessions By The Sea":MAILTO:info@sessionsbythesea.com
GEO:38.3681224;-75.0741802
X-APPLE-STRUCTURED-LOCATION;VALUE=URI;X-ADDRESS=Roland Powell Convention Center 4001 Coastal Hwy Ocean City 21842 United States;X-APPLE-RADIUS=500;X-TITLE=4001 Coastal Hwy:geo:-75.0741802,38.3681224
END:VEVENT
END:VCALENDAR